BEGIN:VCALENDAR
VERSION:2.0
PRODID:-//destination.one//NONSGML destination.meta API//DE
X-WR-CALDESC:A calendar powered by destination.meta
X-WR-CALNAME:bispingen-touristik Kalender via destination.meta
BEGIN:VEVENT
CATEGORIES:Markt sonstige
DESCRIPTION:Karussel fahren\, Bratwurst essen\, Leute treffen- endlich wied
 er ein langes Wochenende im Freien bei hoffentlich tollem Frühlingswetter!
 \n\nAn der Pfeil- und Wurfbude oder beim Entenangeln kann das eigene Gesch
 ick - oder Glück - bewiesen werden. Ein Fliegender Händler mit Lederwaren\
 , Geschenkartikeln\, Fleecejacken\, Modeschmuck und weiteren Artikeln wird
  auch wieder vor Ort sein.\nUnd natürlich kann man bei Crêpes\, Slush Eis\
 , Schmalzkuchen\, am Fisch- oder Würstchenwagen\, bei einer Champignonpfan
 ne oder lieber etwas Süßem wie Waffeln\, Poffertjes\, Süßigkeiten oder geb
 rannten Mandeln seinen Hunger stillen. Selbstverständlich werden dazu auch
  allerlei Getränke angeboten.\nDanach kann es im Musik- Express\, beim Aut
 oscooter\, Kinderkarussell\, an der Greifer- oder Losbude weitergehen!\n\n
 mehr Informationen unter http://pages.destination.one/de/bispingen-tourist
 ik/streaming/detail/Event/e_101013483/fr-hjahrsmarkt
DTEND;TZID=Europe/Berlin:20260417T220000
DTSTAMP:20260423T090252Z
DTSTART;TZID=Europe/Berlin:20260417T140000
GEO:52.988185;10.085456
LOCATION:Innenstadt Munster\, Wilhelm-Bockelmann-Straße\, Munster
SEQUENCE:0
SUMMARY:Frühjahrsmarkt
UID:e_101013483_iv0
URL:http://pages.destination.one/de/bispingen-touristik/streaming/detail/Ev
 ent/e_101013483/fr-hjahrsmarkt
END:VEVENT
BEGIN:VEVENT
CATEGORIES:Markt sonstige
DESCRIPTION:Karussel fahren\, Bratwurst essen\, Leute treffen- endlich wied
 er ein langes Wochenende im Freien bei hoffentlich tollem Frühlingswetter!
 \n\nAn der Pfeil- und Wurfbude oder beim Entenangeln kann das eigene Gesch
 ick - oder Glück - bewiesen werden. Ein Fliegender Händler mit Lederwaren\
 , Geschenkartikeln\, Fleecejacken\, Modeschmuck und weiteren Artikeln wird
  auch wieder vor Ort sein.\nUnd natürlich kann man bei Crêpes\, Slush Eis\
 , Schmalzkuchen\, am Fisch- oder Würstchenwagen\, bei einer Champignonpfan
 ne oder lieber etwas Süßem wie Waffeln\, Poffertjes\, Süßigkeiten oder geb
 rannten Mandeln seinen Hunger stillen. Selbstverständlich werden dazu auch
  allerlei Getränke angeboten.\nDanach kann es im Musik- Express\, beim Aut
 oscooter\, Kinderkarussell\, an der Greifer- oder Losbude weitergehen!\n\n
 mehr Informationen unter http://pages.destination.one/de/bispingen-tourist
 ik/streaming/detail/Event/e_101013483/fr-hjahrsmarkt
DTEND;TZID=Europe/Berlin:20260418T220000
DTSTAMP:20260423T090252Z
DTSTART;TZID=Europe/Berlin:20260418T140000
GEO:52.988185;10.085456
LOCATION:Innenstadt Munster\, Wilhelm-Bockelmann-Straße\, Munster
SEQUENCE:0
SUMMARY:Frühjahrsmarkt
UID:e_101013483_iv1
URL:http://pages.destination.one/de/bispingen-touristik/streaming/detail/Ev
 ent/e_101013483/fr-hjahrsmarkt
END:VEVENT
BEGIN:VEVENT
CATEGORIES:Markt sonstige
DESCRIPTION:Karussel fahren\, Bratwurst essen\, Leute treffen- endlich wied
 er ein langes Wochenende im Freien bei hoffentlich tollem Frühlingswetter!
 \n\nAn der Pfeil- und Wurfbude oder beim Entenangeln kann das eigene Gesch
 ick - oder Glück - bewiesen werden. Ein Fliegender Händler mit Lederwaren\
 , Geschenkartikeln\, Fleecejacken\, Modeschmuck und weiteren Artikeln wird
  auch wieder vor Ort sein.\nUnd natürlich kann man bei Crêpes\, Slush Eis\
 , Schmalzkuchen\, am Fisch- oder Würstchenwagen\, bei einer Champignonpfan
 ne oder lieber etwas Süßem wie Waffeln\, Poffertjes\, Süßigkeiten oder geb
 rannten Mandeln seinen Hunger stillen. Selbstverständlich werden dazu auch
  allerlei Getränke angeboten.\nDanach kann es im Musik- Express\, beim Aut
 oscooter\, Kinderkarussell\, an der Greifer- oder Losbude weitergehen!\n\n
 mehr Informationen unter http://pages.destination.one/de/bispingen-tourist
 ik/streaming/detail/Event/e_101013483/fr-hjahrsmarkt
DTEND;TZID=Europe/Berlin:20260419T180000
DTSTAMP:20260423T090252Z
DTSTART;TZID=Europe/Berlin:20260419T120000
GEO:52.988185;10.085456
LOCATION:Innenstadt Munster\, Wilhelm-Bockelmann-Straße\, Munster
SEQUENCE:0
SUMMARY:Frühjahrsmarkt
UID:e_101013483_iv2
URL:http://pages.destination.one/de/bispingen-touristik/streaming/detail/Ev
 ent/e_101013483/fr-hjahrsmarkt
END:VEVENT
BEGIN:VTIMEZONE
TZID:Europe/Berlin
X-LIC-LOCATION:Europe/Berlin
BEGIN:DAYLIGHT
DTSTART:19700329T020000
RRULE:FREQ=YEARLY;BYDAY=-1SU;BYMONTH=3
TZNAME:CEST
TZOFFSETFROM:+0100
TZOFFSETTO:+0200
END:DAYLIGHT
BEGIN:STANDARD
DTSTART:19701025T030000
RRULE:FREQ=YEARLY;BYDAY=-1SU;BYMONTH=10
TZNAME:CET
TZOFFSETFROM:+0200
TZOFFSETTO:+0100
END:STANDARD
END:VTIMEZONE
END:VCALENDAR
