BEGIN:VCALENDAR
VERSION:2.0
PRODID:-//destination.one//NONSGML destination.meta API//DE
X-WR-CALDESC:A calendar powered by destination.meta
X-WR-CALNAME:bispingen-touristik Kalender via destination.meta
BEGIN:VEVENT
CATEGORIES:Stadtfest
CATEGORIES:Straßenfest
CATEGORIES:Tradition\, Brauchtum\, Volksfest sonstige
DESCRIPTION:Seit seiner Premiere im Jahr 1974 begeistert das Wietzendorfer 
 Honigfest – stets am letzten vollen Septemberwochenende – Besucher aus nah
  und fern. Ursprünglich zur Förderung des Fremdenverkehrs initiiert\, hat 
 sich das Fest zu einem festen kulturellen Highlight der Lüneburger Heide e
 ntwickelt.\n\nmehr Informationen unter http://pages.destination.one/de/bis
 pingen-touristik/streaming/detail/Event/e_101168548/honigfest-in-wietzendo
 rf
DTEND;TZID=Europe/Berlin:20260927T000000
DTSTAMP:20260423T102821Z
DTSTART;TZID=Europe/Berlin:20260926T110000
GEO:52.918244;9.974856
LOCATION:Ortskern Wietzendorf\, \, Wietzendorf
ORGANIZER;CN="Verkehrsverein Wietzendorf e. V,":http://www.wietzendorf-tour
 istik.de/
SEQUENCE:0
SUMMARY:Honigfest in Wietzendorf
UID:e_101168548_iv0
URL:http://pages.destination.one/de/bispingen-touristik/streaming/detail/Ev
 ent/e_101168548/honigfest-in-wietzendorf
END:VEVENT
BEGIN:VEVENT
CATEGORIES:Stadtfest
CATEGORIES:Straßenfest
CATEGORIES:Tradition\, Brauchtum\, Volksfest sonstige
DESCRIPTION:Seit seiner Premiere im Jahr 1974 begeistert das Wietzendorfer 
 Honigfest – stets am letzten vollen Septemberwochenende – Besucher aus nah
  und fern. Ursprünglich zur Förderung des Fremdenverkehrs initiiert\, hat 
 sich das Fest zu einem festen kulturellen Highlight der Lüneburger Heide e
 ntwickelt.\n\nmehr Informationen unter http://pages.destination.one/de/bis
 pingen-touristik/streaming/detail/Event/e_101168548/honigfest-in-wietzendo
 rf
DTEND;TZID=Europe/Berlin:20260927T180000
DTSTAMP:20260423T102821Z
DTSTART;TZID=Europe/Berlin:20260927T110000
GEO:52.918244;9.974856
LOCATION:Ortskern Wietzendorf\, \, Wietzendorf
ORGANIZER;CN="Verkehrsverein Wietzendorf e. V,":http://www.wietzendorf-tour
 istik.de/
SEQUENCE:0
SUMMARY:Honigfest in Wietzendorf
UID:e_101168548_iv1
URL:http://pages.destination.one/de/bispingen-touristik/streaming/detail/Ev
 ent/e_101168548/honigfest-in-wietzendorf
END:VEVENT
BEGIN:VTIMEZONE
TZID:Europe/Berlin
X-LIC-LOCATION:Europe/Berlin
BEGIN:DAYLIGHT
DTSTART:19700329T020000
RRULE:FREQ=YEARLY;BYDAY=-1SU;BYMONTH=3
TZNAME:CEST
TZOFFSETFROM:+0100
TZOFFSETTO:+0200
END:DAYLIGHT
BEGIN:STANDARD
DTSTART:19701025T030000
RRULE:FREQ=YEARLY;BYDAY=-1SU;BYMONTH=10
TZNAME:CET
TZOFFSETFROM:+0200
TZOFFSETTO:+0100
END:STANDARD
END:VTIMEZONE
END:VCALENDAR
