BEGIN:VCALENDAR
VERSION:2.0
PRODID:-//destination.one//NONSGML destination.meta API//DE
X-WR-CALDESC:A calendar powered by destination.meta
X-WR-CALNAME:bispingen-touristik Kalender via destination.meta
BEGIN:VEVENT
CATEGORIES:... mit dem Fahrrad
CATEGORIES:Naturerlebnis
CATEGORIES:Ausflugsfahrt
CATEGORIES:Besichtigung & Führung sonstige
DESCRIPTION:Unsere Geführten Radtouren bieten auf kurzen wechselnden Routen
  für jeden Geschmack eine passende Fahrradtour. Unter der Führung von unse
 ren Tourenleitern geht es in beschaulichem Tempo auf überwiegend flachen R
 ad-\, Feld- und Waldwegen sowie teilweise auf verkehrsarmen Straßen auf ab
 wechslungsreiche Fahrradtouren rund um Wietzendorf. Jedes Jahr sind versch
 iedene Themen und Strecken im Angebot.\n\nmehr Informationen unter http://
 pages.destination.one/de/bispingen-touristik/streaming/detail/Event/e_1012
 31612/gef-hrte-radtouren
DTEND;TZID=Europe/Berlin:20260412T235900
DTSTAMP:20260423T103550Z
DTSTART;TZID=Europe/Berlin:20260412T140000
GEO:52.918635;9.974978
LOCATION:Rathausplatz Wietzendorf\, Hauptstr. 12\, Wietzendorf
ORGANIZER;CN=Gemeinde Wietzendorf:mailto:gemeinde@wietzendorf.de
SEQUENCE:0
SUMMARY:Geführte Radtouren
UID:e_101231612_iv0
URL:http://pages.destination.one/de/bispingen-touristik/streaming/detail/Ev
 ent/e_101231612/gef-hrte-radtouren
END:VEVENT
BEGIN:VEVENT
CATEGORIES:... mit dem Fahrrad
CATEGORIES:Naturerlebnis
CATEGORIES:Ausflugsfahrt
CATEGORIES:Besichtigung & Führung sonstige
DESCRIPTION:Unsere Geführten Radtouren bieten auf kurzen wechselnden Routen
  für jeden Geschmack eine passende Fahrradtour. Unter der Führung von unse
 ren Tourenleitern geht es in beschaulichem Tempo auf überwiegend flachen R
 ad-\, Feld- und Waldwegen sowie teilweise auf verkehrsarmen Straßen auf ab
 wechslungsreiche Fahrradtouren rund um Wietzendorf. Jedes Jahr sind versch
 iedene Themen und Strecken im Angebot.\n\nmehr Informationen unter http://
 pages.destination.one/de/bispingen-touristik/streaming/detail/Event/e_1012
 31612/gef-hrte-radtouren
DTEND;TZID=Europe/Berlin:20260417T235900
DTSTAMP:20260423T103550Z
DTSTART;TZID=Europe/Berlin:20260417T180000
GEO:52.918635;9.974978
LOCATION:Rathausplatz Wietzendorf\, Hauptstr. 12\, Wietzendorf
ORGANIZER;CN=Gemeinde Wietzendorf:mailto:gemeinde@wietzendorf.de
SEQUENCE:0
SUMMARY:Geführte Radtouren
UID:e_101231612_iv1
URL:http://pages.destination.one/de/bispingen-touristik/streaming/detail/Ev
 ent/e_101231612/gef-hrte-radtouren
END:VEVENT
BEGIN:VEVENT
CATEGORIES:... mit dem Fahrrad
CATEGORIES:Naturerlebnis
CATEGORIES:Ausflugsfahrt
CATEGORIES:Besichtigung & Führung sonstige
DESCRIPTION:Unsere Geführten Radtouren bieten auf kurzen wechselnden Routen
  für jeden Geschmack eine passende Fahrradtour. Unter der Führung von unse
 ren Tourenleitern geht es in beschaulichem Tempo auf überwiegend flachen R
 ad-\, Feld- und Waldwegen sowie teilweise auf verkehrsarmen Straßen auf ab
 wechslungsreiche Fahrradtouren rund um Wietzendorf. Jedes Jahr sind versch
 iedene Themen und Strecken im Angebot.\n\nmehr Informationen unter http://
 pages.destination.one/de/bispingen-touristik/streaming/detail/Event/e_1012
 31612/gef-hrte-radtouren
DTEND;TZID=Europe/Berlin:20260508T235900
DTSTAMP:20260423T103550Z
DTSTART;TZID=Europe/Berlin:20260508T180000
GEO:52.918635;9.974978
LOCATION:Rathausplatz Wietzendorf\, Hauptstr. 12\, Wietzendorf
ORGANIZER;CN=Gemeinde Wietzendorf:mailto:gemeinde@wietzendorf.de
SEQUENCE:0
SUMMARY:Geführte Radtouren
UID:e_101231612_iv2
URL:http://pages.destination.one/de/bispingen-touristik/streaming/detail/Ev
 ent/e_101231612/gef-hrte-radtouren
END:VEVENT
BEGIN:VEVENT
CATEGORIES:... mit dem Fahrrad
CATEGORIES:Naturerlebnis
CATEGORIES:Ausflugsfahrt
CATEGORIES:Besichtigung & Führung sonstige
DESCRIPTION:Unsere Geführten Radtouren bieten auf kurzen wechselnden Routen
  für jeden Geschmack eine passende Fahrradtour. Unter der Führung von unse
 ren Tourenleitern geht es in beschaulichem Tempo auf überwiegend flachen R
 ad-\, Feld- und Waldwegen sowie teilweise auf verkehrsarmen Straßen auf ab
 wechslungsreiche Fahrradtouren rund um Wietzendorf. Jedes Jahr sind versch
 iedene Themen und Strecken im Angebot.\n\nmehr Informationen unter http://
 pages.destination.one/de/bispingen-touristik/streaming/detail/Event/e_1012
 31612/gef-hrte-radtouren
DTEND;TZID=Europe/Berlin:20260531T235900
DTSTAMP:20260423T103550Z
DTSTART;TZID=Europe/Berlin:20260531T140000
GEO:52.918635;9.974978
LOCATION:Rathausplatz Wietzendorf\, Hauptstr. 12\, Wietzendorf
ORGANIZER;CN=Gemeinde Wietzendorf:mailto:gemeinde@wietzendorf.de
SEQUENCE:0
SUMMARY:Geführte Radtouren
UID:e_101231612_iv3
URL:http://pages.destination.one/de/bispingen-touristik/streaming/detail/Ev
 ent/e_101231612/gef-hrte-radtouren
END:VEVENT
BEGIN:VEVENT
CATEGORIES:... mit dem Fahrrad
CATEGORIES:Naturerlebnis
CATEGORIES:Ausflugsfahrt
CATEGORIES:Besichtigung & Führung sonstige
DESCRIPTION:Unsere Geführten Radtouren bieten auf kurzen wechselnden Routen
  für jeden Geschmack eine passende Fahrradtour. Unter der Führung von unse
 ren Tourenleitern geht es in beschaulichem Tempo auf überwiegend flachen R
 ad-\, Feld- und Waldwegen sowie teilweise auf verkehrsarmen Straßen auf ab
 wechslungsreiche Fahrradtouren rund um Wietzendorf. Jedes Jahr sind versch
 iedene Themen und Strecken im Angebot.\n\nmehr Informationen unter http://
 pages.destination.one/de/bispingen-touristik/streaming/detail/Event/e_1012
 31612/gef-hrte-radtouren
DTEND;TZID=Europe/Berlin:20260612T235900
DTSTAMP:20260423T103550Z
DTSTART;TZID=Europe/Berlin:20260612T180000
GEO:52.918635;9.974978
LOCATION:Rathausplatz Wietzendorf\, Hauptstr. 12\, Wietzendorf
ORGANIZER;CN=Gemeinde Wietzendorf:mailto:gemeinde@wietzendorf.de
SEQUENCE:0
SUMMARY:Geführte Radtouren
UID:e_101231612_iv4
URL:http://pages.destination.one/de/bispingen-touristik/streaming/detail/Ev
 ent/e_101231612/gef-hrte-radtouren
END:VEVENT
BEGIN:VEVENT
CATEGORIES:... mit dem Fahrrad
CATEGORIES:Naturerlebnis
CATEGORIES:Ausflugsfahrt
CATEGORIES:Besichtigung & Führung sonstige
DESCRIPTION:Unsere Geführten Radtouren bieten auf kurzen wechselnden Routen
  für jeden Geschmack eine passende Fahrradtour. Unter der Führung von unse
 ren Tourenleitern geht es in beschaulichem Tempo auf überwiegend flachen R
 ad-\, Feld- und Waldwegen sowie teilweise auf verkehrsarmen Straßen auf ab
 wechslungsreiche Fahrradtouren rund um Wietzendorf. Jedes Jahr sind versch
 iedene Themen und Strecken im Angebot.\n\nmehr Informationen unter http://
 pages.destination.one/de/bispingen-touristik/streaming/detail/Event/e_1012
 31612/gef-hrte-radtouren
DTEND;TZID=Europe/Berlin:20260621T235900
DTSTAMP:20260423T103550Z
DTSTART;TZID=Europe/Berlin:20260621T140000
GEO:52.918635;9.974978
LOCATION:Rathausplatz Wietzendorf\, Hauptstr. 12\, Wietzendorf
ORGANIZER;CN=Gemeinde Wietzendorf:mailto:gemeinde@wietzendorf.de
SEQUENCE:0
SUMMARY:Geführte Radtouren
UID:e_101231612_iv5
URL:http://pages.destination.one/de/bispingen-touristik/streaming/detail/Ev
 ent/e_101231612/gef-hrte-radtouren
END:VEVENT
BEGIN:VEVENT
CATEGORIES:... mit dem Fahrrad
CATEGORIES:Naturerlebnis
CATEGORIES:Ausflugsfahrt
CATEGORIES:Besichtigung & Führung sonstige
DESCRIPTION:Unsere Geführten Radtouren bieten auf kurzen wechselnden Routen
  für jeden Geschmack eine passende Fahrradtour. Unter der Führung von unse
 ren Tourenleitern geht es in beschaulichem Tempo auf überwiegend flachen R
 ad-\, Feld- und Waldwegen sowie teilweise auf verkehrsarmen Straßen auf ab
 wechslungsreiche Fahrradtouren rund um Wietzendorf. Jedes Jahr sind versch
 iedene Themen und Strecken im Angebot.\n\nmehr Informationen unter http://
 pages.destination.one/de/bispingen-touristik/streaming/detail/Event/e_1012
 31612/gef-hrte-radtouren
DTEND;TZID=Europe/Berlin:20260710T235900
DTSTAMP:20260423T103550Z
DTSTART;TZID=Europe/Berlin:20260710T180000
GEO:52.918635;9.974978
LOCATION:Rathausplatz Wietzendorf\, Hauptstr. 12\, Wietzendorf
ORGANIZER;CN=Gemeinde Wietzendorf:mailto:gemeinde@wietzendorf.de
SEQUENCE:0
SUMMARY:Geführte Radtouren
UID:e_101231612_iv6
URL:http://pages.destination.one/de/bispingen-touristik/streaming/detail/Ev
 ent/e_101231612/gef-hrte-radtouren
END:VEVENT
BEGIN:VEVENT
CATEGORIES:... mit dem Fahrrad
CATEGORIES:Naturerlebnis
CATEGORIES:Ausflugsfahrt
CATEGORIES:Besichtigung & Führung sonstige
DESCRIPTION:Unsere Geführten Radtouren bieten auf kurzen wechselnden Routen
  für jeden Geschmack eine passende Fahrradtour. Unter der Führung von unse
 ren Tourenleitern geht es in beschaulichem Tempo auf überwiegend flachen R
 ad-\, Feld- und Waldwegen sowie teilweise auf verkehrsarmen Straßen auf ab
 wechslungsreiche Fahrradtouren rund um Wietzendorf. Jedes Jahr sind versch
 iedene Themen und Strecken im Angebot.\n\nmehr Informationen unter http://
 pages.destination.one/de/bispingen-touristik/streaming/detail/Event/e_1012
 31612/gef-hrte-radtouren
DTEND;TZID=Europe/Berlin:20260719T235900
DTSTAMP:20260423T103550Z
DTSTART;TZID=Europe/Berlin:20260719T140000
GEO:52.918635;9.974978
LOCATION:Rathausplatz Wietzendorf\, Hauptstr. 12\, Wietzendorf
ORGANIZER;CN=Gemeinde Wietzendorf:mailto:gemeinde@wietzendorf.de
SEQUENCE:0
SUMMARY:Geführte Radtouren
UID:e_101231612_iv7
URL:http://pages.destination.one/de/bispingen-touristik/streaming/detail/Ev
 ent/e_101231612/gef-hrte-radtouren
END:VEVENT
BEGIN:VEVENT
CATEGORIES:... mit dem Fahrrad
CATEGORIES:Naturerlebnis
CATEGORIES:Ausflugsfahrt
CATEGORIES:Besichtigung & Führung sonstige
DESCRIPTION:Unsere Geführten Radtouren bieten auf kurzen wechselnden Routen
  für jeden Geschmack eine passende Fahrradtour. Unter der Führung von unse
 ren Tourenleitern geht es in beschaulichem Tempo auf überwiegend flachen R
 ad-\, Feld- und Waldwegen sowie teilweise auf verkehrsarmen Straßen auf ab
 wechslungsreiche Fahrradtouren rund um Wietzendorf. Jedes Jahr sind versch
 iedene Themen und Strecken im Angebot.\n\nmehr Informationen unter http://
 pages.destination.one/de/bispingen-touristik/streaming/detail/Event/e_1012
 31612/gef-hrte-radtouren
DTEND;TZID=Europe/Berlin:20260814T235900
DTSTAMP:20260423T103550Z
DTSTART;TZID=Europe/Berlin:20260814T180000
GEO:52.918635;9.974978
LOCATION:Rathausplatz Wietzendorf\, Hauptstr. 12\, Wietzendorf
ORGANIZER;CN=Gemeinde Wietzendorf:mailto:gemeinde@wietzendorf.de
SEQUENCE:0
SUMMARY:Geführte Radtouren
UID:e_101231612_iv8
URL:http://pages.destination.one/de/bispingen-touristik/streaming/detail/Ev
 ent/e_101231612/gef-hrte-radtouren
END:VEVENT
BEGIN:VEVENT
CATEGORIES:... mit dem Fahrrad
CATEGORIES:Naturerlebnis
CATEGORIES:Ausflugsfahrt
CATEGORIES:Besichtigung & Führung sonstige
DESCRIPTION:Unsere Geführten Radtouren bieten auf kurzen wechselnden Routen
  für jeden Geschmack eine passende Fahrradtour. Unter der Führung von unse
 ren Tourenleitern geht es in beschaulichem Tempo auf überwiegend flachen R
 ad-\, Feld- und Waldwegen sowie teilweise auf verkehrsarmen Straßen auf ab
 wechslungsreiche Fahrradtouren rund um Wietzendorf. Jedes Jahr sind versch
 iedene Themen und Strecken im Angebot.\n\nmehr Informationen unter http://
 pages.destination.one/de/bispingen-touristik/streaming/detail/Event/e_1012
 31612/gef-hrte-radtouren
DTEND;TZID=Europe/Berlin:20260823T235900
DTSTAMP:20260423T103550Z
DTSTART;TZID=Europe/Berlin:20260823T140000
GEO:52.918635;9.974978
LOCATION:Rathausplatz Wietzendorf\, Hauptstr. 12\, Wietzendorf
ORGANIZER;CN=Gemeinde Wietzendorf:mailto:gemeinde@wietzendorf.de
SEQUENCE:0
SUMMARY:Geführte Radtouren
UID:e_101231612_iv9
URL:http://pages.destination.one/de/bispingen-touristik/streaming/detail/Ev
 ent/e_101231612/gef-hrte-radtouren
END:VEVENT
BEGIN:VEVENT
CATEGORIES:... mit dem Fahrrad
CATEGORIES:Naturerlebnis
CATEGORIES:Ausflugsfahrt
CATEGORIES:Besichtigung & Führung sonstige
DESCRIPTION:Unsere Geführten Radtouren bieten auf kurzen wechselnden Routen
  für jeden Geschmack eine passende Fahrradtour. Unter der Führung von unse
 ren Tourenleitern geht es in beschaulichem Tempo auf überwiegend flachen R
 ad-\, Feld- und Waldwegen sowie teilweise auf verkehrsarmen Straßen auf ab
 wechslungsreiche Fahrradtouren rund um Wietzendorf. Jedes Jahr sind versch
 iedene Themen und Strecken im Angebot.\n\nmehr Informationen unter http://
 pages.destination.one/de/bispingen-touristik/streaming/detail/Event/e_1012
 31612/gef-hrte-radtouren
DTEND;TZID=Europe/Berlin:20260829T235900
DTSTAMP:20260423T103550Z
DTSTART;TZID=Europe/Berlin:20260829T140000
GEO:52.918635;9.974978
LOCATION:Rathausplatz Wietzendorf\, Hauptstr. 12\, Wietzendorf
ORGANIZER;CN=Gemeinde Wietzendorf:mailto:gemeinde@wietzendorf.de
SEQUENCE:0
SUMMARY:Geführte Radtouren
UID:e_101231612_iv10
URL:http://pages.destination.one/de/bispingen-touristik/streaming/detail/Ev
 ent/e_101231612/gef-hrte-radtouren
END:VEVENT
BEGIN:VEVENT
CATEGORIES:... mit dem Fahrrad
CATEGORIES:Naturerlebnis
CATEGORIES:Ausflugsfahrt
CATEGORIES:Besichtigung & Führung sonstige
DESCRIPTION:Unsere Geführten Radtouren bieten auf kurzen wechselnden Routen
  für jeden Geschmack eine passende Fahrradtour. Unter der Führung von unse
 ren Tourenleitern geht es in beschaulichem Tempo auf überwiegend flachen R
 ad-\, Feld- und Waldwegen sowie teilweise auf verkehrsarmen Straßen auf ab
 wechslungsreiche Fahrradtouren rund um Wietzendorf. Jedes Jahr sind versch
 iedene Themen und Strecken im Angebot.\n\nmehr Informationen unter http://
 pages.destination.one/de/bispingen-touristik/streaming/detail/Event/e_1012
 31612/gef-hrte-radtouren
DTEND;TZID=Europe/Berlin:20260906T235900
DTSTAMP:20260423T103550Z
DTSTART;TZID=Europe/Berlin:20260906T140000
GEO:52.918635;9.974978
LOCATION:Rathausplatz Wietzendorf\, Hauptstr. 12\, Wietzendorf
ORGANIZER;CN=Gemeinde Wietzendorf:mailto:gemeinde@wietzendorf.de
SEQUENCE:0
SUMMARY:Geführte Radtouren
UID:e_101231612_iv11
URL:http://pages.destination.one/de/bispingen-touristik/streaming/detail/Ev
 ent/e_101231612/gef-hrte-radtouren
END:VEVENT
BEGIN:VEVENT
CATEGORIES:... mit dem Fahrrad
CATEGORIES:Naturerlebnis
CATEGORIES:Ausflugsfahrt
CATEGORIES:Besichtigung & Führung sonstige
DESCRIPTION:Unsere Geführten Radtouren bieten auf kurzen wechselnden Routen
  für jeden Geschmack eine passende Fahrradtour. Unter der Führung von unse
 ren Tourenleitern geht es in beschaulichem Tempo auf überwiegend flachen R
 ad-\, Feld- und Waldwegen sowie teilweise auf verkehrsarmen Straßen auf ab
 wechslungsreiche Fahrradtouren rund um Wietzendorf. Jedes Jahr sind versch
 iedene Themen und Strecken im Angebot.\n\nmehr Informationen unter http://
 pages.destination.one/de/bispingen-touristik/streaming/detail/Event/e_1012
 31612/gef-hrte-radtouren
DTEND;TZID=Europe/Berlin:20260911T235900
DTSTAMP:20260423T103550Z
DTSTART;TZID=Europe/Berlin:20260911T180000
GEO:52.918635;9.974978
LOCATION:Rathausplatz Wietzendorf\, Hauptstr. 12\, Wietzendorf
ORGANIZER;CN=Gemeinde Wietzendorf:mailto:gemeinde@wietzendorf.de
SEQUENCE:0
SUMMARY:Geführte Radtouren
UID:e_101231612_iv12
URL:http://pages.destination.one/de/bispingen-touristik/streaming/detail/Ev
 ent/e_101231612/gef-hrte-radtouren
END:VEVENT
BEGIN:VEVENT
CATEGORIES:... mit dem Fahrrad
CATEGORIES:Naturerlebnis
CATEGORIES:Ausflugsfahrt
CATEGORIES:Besichtigung & Führung sonstige
DESCRIPTION:Unsere Geführten Radtouren bieten auf kurzen wechselnden Routen
  für jeden Geschmack eine passende Fahrradtour. Unter der Führung von unse
 ren Tourenleitern geht es in beschaulichem Tempo auf überwiegend flachen R
 ad-\, Feld- und Waldwegen sowie teilweise auf verkehrsarmen Straßen auf ab
 wechslungsreiche Fahrradtouren rund um Wietzendorf. Jedes Jahr sind versch
 iedene Themen und Strecken im Angebot.\n\nmehr Informationen unter http://
 pages.destination.one/de/bispingen-touristik/streaming/detail/Event/e_1012
 31612/gef-hrte-radtouren
DTEND;TZID=Europe/Berlin:20260920T235900
DTSTAMP:20260423T103550Z
DTSTART;TZID=Europe/Berlin:20260920T140000
GEO:52.918635;9.974978
LOCATION:Rathausplatz Wietzendorf\, Hauptstr. 12\, Wietzendorf
ORGANIZER;CN=Gemeinde Wietzendorf:mailto:gemeinde@wietzendorf.de
SEQUENCE:0
SUMMARY:Geführte Radtouren
UID:e_101231612_iv13
URL:http://pages.destination.one/de/bispingen-touristik/streaming/detail/Ev
 ent/e_101231612/gef-hrte-radtouren
END:VEVENT
BEGIN:VEVENT
CATEGORIES:... mit dem Fahrrad
CATEGORIES:Naturerlebnis
CATEGORIES:Ausflugsfahrt
CATEGORIES:Besichtigung & Führung sonstige
DESCRIPTION:Unsere Geführten Radtouren bieten auf kurzen wechselnden Routen
  für jeden Geschmack eine passende Fahrradtour. Unter der Führung von unse
 ren Tourenleitern geht es in beschaulichem Tempo auf überwiegend flachen R
 ad-\, Feld- und Waldwegen sowie teilweise auf verkehrsarmen Straßen auf ab
 wechslungsreiche Fahrradtouren rund um Wietzendorf. Jedes Jahr sind versch
 iedene Themen und Strecken im Angebot.\n\nmehr Informationen unter http://
 pages.destination.one/de/bispingen-touristik/streaming/detail/Event/e_1012
 31612/gef-hrte-radtouren
DTEND;TZID=Europe/Berlin:20261007T235900
DTSTAMP:20260423T103550Z
DTSTART;TZID=Europe/Berlin:20261007T180000
GEO:52.918635;9.974978
LOCATION:Rathausplatz Wietzendorf\, Hauptstr. 12\, Wietzendorf
ORGANIZER;CN=Gemeinde Wietzendorf:mailto:gemeinde@wietzendorf.de
SEQUENCE:0
SUMMARY:Geführte Radtouren
UID:e_101231612_iv14
URL:http://pages.destination.one/de/bispingen-touristik/streaming/detail/Ev
 ent/e_101231612/gef-hrte-radtouren
END:VEVENT
BEGIN:VEVENT
CATEGORIES:... mit dem Fahrrad
CATEGORIES:Naturerlebnis
CATEGORIES:Ausflugsfahrt
CATEGORIES:Besichtigung & Führung sonstige
DESCRIPTION:Unsere Geführten Radtouren bieten auf kurzen wechselnden Routen
  für jeden Geschmack eine passende Fahrradtour. Unter der Führung von unse
 ren Tourenleitern geht es in beschaulichem Tempo auf überwiegend flachen R
 ad-\, Feld- und Waldwegen sowie teilweise auf verkehrsarmen Straßen auf ab
 wechslungsreiche Fahrradtouren rund um Wietzendorf. Jedes Jahr sind versch
 iedene Themen und Strecken im Angebot.\n\nmehr Informationen unter http://
 pages.destination.one/de/bispingen-touristik/streaming/detail/Event/e_1012
 31612/gef-hrte-radtouren
DTEND;TZID=Europe/Berlin:20261026T235900
DTSTAMP:20260423T103550Z
DTSTART;TZID=Europe/Berlin:20261026T190000
GEO:52.918635;9.974978
LOCATION:Rathausplatz Wietzendorf\, Hauptstr. 12\, Wietzendorf
ORGANIZER;CN=Gemeinde Wietzendorf:mailto:gemeinde@wietzendorf.de
SEQUENCE:0
SUMMARY:Geführte Radtouren
UID:e_101231612_iv15
URL:http://pages.destination.one/de/bispingen-touristik/streaming/detail/Ev
 ent/e_101231612/gef-hrte-radtouren
END:VEVENT
BEGIN:VTIMEZONE
TZID:Europe/Berlin
X-LIC-LOCATION:Europe/Berlin
BEGIN:DAYLIGHT
DTSTART:19700329T020000
RRULE:FREQ=YEARLY;BYDAY=-1SU;BYMONTH=3
TZNAME:CEST
TZOFFSETFROM:+0100
TZOFFSETTO:+0200
END:DAYLIGHT
BEGIN:STANDARD
DTSTART:19701025T030000
RRULE:FREQ=YEARLY;BYDAY=-1SU;BYMONTH=10
TZNAME:CET
TZOFFSETFROM:+0200
TZOFFSETTO:+0100
END:STANDARD
END:VTIMEZONE
END:VCALENDAR
