BEGIN:VCALENDAR
VERSION:2.0
PRODID:-//destination.one//NONSGML destination.meta API//DE
X-WR-CALDESC:A calendar powered by destination.meta
X-WR-CALNAME:bispingen-touristik Kalender via destination.meta
BEGIN:VEVENT
CATEGORIES:Sommerfest
DESCRIPTION:Frühlingsfest in der Teestube Undeloh am 16. Mai\n\nmehr Inform
 ationen unter http://pages.destination.one/de/bispingen-touristik/streamin
 g/detail/Event/e_101258307/fr-hlingsfest-in-der-teestube-undeloh-am-16-mai
DTEND;TZID=Europe/Berlin:20260516T235900
DTSTAMP:20260423T105111Z
DTSTART;TZID=Europe/Berlin:20260516T160000
GEO:53.198180;9.977090
LOCATION:Undeloh: Die Teestube\, Zur Dorfeiche 15\, Undeloh
ORGANIZER;CN="Undeloh: Die Teestube":http://www.teestube-undeloh.de/
SEQUENCE:0
SUMMARY:Frühlingsfest in der Teestube Undeloh am 16. Mai 
UID:e_101258307_iv0
URL:http://pages.destination.one/de/bispingen-touristik/streaming/detail/Ev
 ent/e_101258307/fr-hlingsfest-in-der-teestube-undeloh-am-16-mai
END:VEVENT
BEGIN:VTIMEZONE
TZID:Europe/Berlin
X-LIC-LOCATION:Europe/Berlin
BEGIN:DAYLIGHT
DTSTART:19700329T020000
RRULE:FREQ=YEARLY;BYDAY=-1SU;BYMONTH=3
TZNAME:CEST
TZOFFSETFROM:+0100
TZOFFSETTO:+0200
END:DAYLIGHT
BEGIN:STANDARD
DTSTART:19701025T030000
RRULE:FREQ=YEARLY;BYDAY=-1SU;BYMONTH=10
TZNAME:CET
TZOFFSETFROM:+0200
TZOFFSETTO:+0100
END:STANDARD
END:VTIMEZONE
END:VCALENDAR
