BEGIN:VCALENDAR
VERSION:2.0
PRODID:-//destination.one//NONSGML destination.meta API//DE
X-WR-CALDESC:A calendar powered by destination.meta
X-WR-CALNAME:bispingen-touristik Kalender via destination.meta
BEGIN:VEVENT
CATEGORIES:Seminar/Kurs/Workshop sonstige
CATEGORIES:Tradition\, Brauchtum\, Volksfest sonstige
DESCRIPTION:Mit Plattfluencerin Lisa Wrogemann - @eat.platt.love\n\nmehr In
 formationen unter http://pages.destination.one/de/bispingen-touristik/stre
 aming/detail/Event/e_101260616/verleven-nner-plattsnacker-plattdeutsch-cra
 shkurs
DTEND;TZID=Europe/Berlin:20260528T203000
DTSTAMP:20260424T123258Z
DTSTART;TZID=Europe/Berlin:20260528T183000
GEO:53.084323;9.997033
LOCATION:Cindy`s Frauenzimmer\, Bahnhofstraße 3\, Bispingen
ORGANIZER;CN=Cindy`s Frauenzimmer:mailto:info@cindysfrauenzimmer.de
SEQUENCE:0
SUMMARY:Överleven ünner Plattsnacker – Plattdeutsch-Crashkurs
UID:e_101260616_iv0
URL:http://pages.destination.one/de/bispingen-touristik/streaming/detail/Ev
 ent/e_101260616/verleven-nner-plattsnacker-plattdeutsch-crashkurs
END:VEVENT
BEGIN:VTIMEZONE
TZID:Europe/Berlin
X-LIC-LOCATION:Europe/Berlin
BEGIN:DAYLIGHT
DTSTART:19700329T020000
RRULE:FREQ=YEARLY;BYDAY=-1SU;BYMONTH=3
TZNAME:CEST
TZOFFSETFROM:+0100
TZOFFSETTO:+0200
END:DAYLIGHT
BEGIN:STANDARD
DTSTART:19701025T030000
RRULE:FREQ=YEARLY;BYDAY=-1SU;BYMONTH=10
TZNAME:CET
TZOFFSETFROM:+0200
TZOFFSETTO:+0100
END:STANDARD
END:VTIMEZONE
END:VCALENDAR
